BEGIN:VCALENDAR
VERSION:2.0
PRODID:-//Southern Colorado Consistory - ECPv6.15.17.1//NONSGML v1.0//EN
CALSCALE:GREGORIAN
METHOD:PUBLISH
X-WR-CALNAME:Southern Colorado Consistory
X-ORIGINAL-URL:https://sococonsistory.org
X-WR-CALDESC:Events for Southern Colorado Consistory
REFRESH-INTERVAL;VALUE=DURATION:PT1H
X-Robots-Tag:noindex
X-PUBLISHED-TTL:PT1H
BEGIN:VTIMEZONE
TZID:America/Denver
BEGIN:DAYLIGHT
TZOFFSETFROM:-0700
TZOFFSETTO:-0600
TZNAME:MDT
DTSTART:20230312T090000
END:DAYLIGHT
BEGIN:STANDARD
TZOFFSETFROM:-0600
TZOFFSETTO:-0700
TZNAME:MST
DTSTART:20231105T080000
END:STANDARD
BEGIN:DAYLIGHT
TZOFFSETFROM:-0700
TZOFFSETTO:-0600
TZNAME:MDT
DTSTART:20240310T090000
END:DAYLIGHT
BEGIN:STANDARD
TZOFFSETFROM:-0600
TZOFFSETTO:-0700
TZNAME:MST
DTSTART:20241103T080000
END:STANDARD
BEGIN:DAYLIGHT
TZOFFSETFROM:-0700
TZOFFSETTO:-0600
TZNAME:MDT
DTSTART:20250309T090000
END:DAYLIGHT
BEGIN:STANDARD
TZOFFSETFROM:-0600
TZOFFSETTO:-0700
TZNAME:MST
DTSTART:20251102T080000
END:STANDARD
END:VTIMEZONE
BEGIN:VEVENT
DTSTART;TZID=America/Denver:20240529T080000
DTEND;TZID=America/Denver:20240529T170000
DTSTAMP:20260423T172609
CREATED:20240529T203231Z
LAST-MODIFIED:20240529T203231Z
UID:371-1716969600-1717002000@sococonsistory.org
SUMMARY:June 2024 Meeting
DESCRIPTION:MW Brother Ray Dunn will present a talk on the Kabballah. All Brothers and guests are invited. \nJune_2024_Dinner_flyer\n 
URL:https://sococonsistory.org/event/june-2024-meeting/
END:VEVENT
END:VCALENDAR