BEGIN:VCALENDAR
VERSION:2.0
PRODID:-//Southern Colorado Consistory - ECPv6.15.17.1//NONSGML v1.0//EN
CALSCALE:GREGORIAN
METHOD:PUBLISH
X-WR-CALNAME:Southern Colorado Consistory
X-ORIGINAL-URL:https://sococonsistory.org
X-WR-CALDESC:Events for Southern Colorado Consistory
REFRESH-INTERVAL;VALUE=DURATION:PT1H
X-Robots-Tag:noindex
X-PUBLISHED-TTL:PT1H
BEGIN:VTIMEZONE
TZID:America/Denver
BEGIN:DAYLIGHT
TZOFFSETFROM:-0700
TZOFFSETTO:-0600
TZNAME:MDT
DTSTART:20220313T090000
END:DAYLIGHT
BEGIN:STANDARD
TZOFFSETFROM:-0600
TZOFFSETTO:-0700
TZNAME:MST
DTSTART:20221106T080000
END:STANDARD
BEGIN:DAYLIGHT
TZOFFSETFROM:-0700
TZOFFSETTO:-0600
TZNAME:MDT
DTSTART:20230312T090000
END:DAYLIGHT
BEGIN:STANDARD
TZOFFSETFROM:-0600
TZOFFSETTO:-0700
TZNAME:MST
DTSTART:20231105T080000
END:STANDARD
BEGIN:DAYLIGHT
TZOFFSETFROM:-0700
TZOFFSETTO:-0600
TZNAME:MDT
DTSTART:20240310T090000
END:DAYLIGHT
BEGIN:STANDARD
TZOFFSETFROM:-0600
TZOFFSETTO:-0700
TZNAME:MST
DTSTART:20241103T080000
END:STANDARD
BEGIN:DAYLIGHT
TZOFFSETFROM:-0700
TZOFFSETTO:-0600
TZNAME:MDT
DTSTART:20250309T090000
END:DAYLIGHT
BEGIN:STANDARD
TZOFFSETFROM:-0600
TZOFFSETTO:-0700
TZNAME:MST
DTSTART:20251102T080000
END:STANDARD
BEGIN:DAYLIGHT
TZOFFSETFROM:-0700
TZOFFSETTO:-0600
TZNAME:MDT
DTSTART:20260308T090000
END:DAYLIGHT
BEGIN:STANDARD
TZOFFSETFROM:-0600
TZOFFSETTO:-0700
TZNAME:MST
DTSTART:20261101T080000
END:STANDARD
END:VTIMEZONE
BEGIN:VEVENT
DTSTART;TZID=America/Denver:20251203T190000
DTEND;TZID=America/Denver:20251203T203000
DTSTAMP:20260422T163644
CREATED:20251128T210508Z
LAST-MODIFIED:20251128T210508Z
UID:491-1764788400-1764793800@sococonsistory.org
SUMMARY:December meeting with elections and installation
DESCRIPTION:
URL:https://sococonsistory.org/event/december-meeting-with-elections-and-installation/
END:VEVENT
BEGIN:VEVENT
DTSTART;TZID=America/Denver:20251106T080000
DTEND;TZID=America/Denver:20251108T170000
DTSTAMP:20260422T163644
CREATED:20251031T161125Z
LAST-MODIFIED:20251031T161125Z
UID:481-1762416000-1762621200@sococonsistory.org
SUMMARY:Fall Reunion
DESCRIPTION:Reunion Nov 25 schedule
URL:https://sococonsistory.org/event/fall-reunion-3/
END:VEVENT
BEGIN:VEVENT
DTSTART;TZID=America/Denver:20251105T190000
DTEND;TZID=America/Denver:20251105T200000
DTSTAMP:20260422T163644
CREATED:20251031T161246Z
LAST-MODIFIED:20251031T161246Z
UID:484-1762369200-1762372800@sococonsistory.org
SUMMARY:November Meeting
DESCRIPTION:
URL:https://sococonsistory.org/event/november-meeting-2/
END:VEVENT
BEGIN:VEVENT
DTSTART;TZID=America/Denver:20251001T183000
DTEND;TZID=America/Denver:20251001T210000
DTSTAMP:20260422T163644
CREATED:20251001T154039Z
LAST-MODIFIED:20251001T154157Z
UID:473-1759343400-1759352400@sococonsistory.org
SUMMARY:October 2025 Meeting
DESCRIPTION:SoCo_AASR_Feast-Of_Tishri_2025
URL:https://sococonsistory.org/event/october-2025-meeting/
END:VEVENT
BEGIN:VEVENT
DTSTART;TZID=America/Denver:20250604T190000
DTEND;TZID=America/Denver:20250604T210000
DTSTAMP:20260422T163644
CREATED:20250604T215052Z
LAST-MODIFIED:20250604T215209Z
UID:458-1749063600-1749070800@sococonsistory.org
SUMMARY:June Meeting
DESCRIPTION:Program: Illustrious John Moreno is going to hold a discussion on 30th degree with the use of his J2SR program. \nWe will be having an after meeting social. Snacks will be provided and drinks. BYOB.
URL:https://sococonsistory.org/event/june-meeting/
LOCATION:Egyptian Room\, 1150 Panorama Dr\, Colorado Springs\, CO\, 80904\, United States
END:VEVENT
BEGIN:VEVENT
DTSTART;TZID=America/Denver:20250507T190000
DTEND;TZID=America/Denver:20250507T210000
DTSTAMP:20260422T163644
CREATED:20250226T232824Z
LAST-MODIFIED:20250226T232844Z
UID:442-1746644400-1746651600@sococonsistory.org
SUMMARY:May 2025 Meeting
DESCRIPTION:
URL:https://sococonsistory.org/event/may-2025-meeting/
LOCATION:Egyptian Room\, 1150 Panorama Dr\, Colorado Springs\, CO\, 80904\, United States
END:VEVENT
BEGIN:VEVENT
DTSTART;VALUE=DATE:20250424
DTEND;VALUE=DATE:20250427
DTSTAMP:20260422T163644
CREATED:20250226T232730Z
LAST-MODIFIED:20250226T232730Z
UID:440-1745452800-1745711999@sococonsistory.org
SUMMARY:Spring Reunion
DESCRIPTION:
URL:https://sococonsistory.org/event/spring-reunion/
END:VEVENT
BEGIN:VEVENT
DTSTART;TZID=America/Denver:20250402T190000
DTEND;TZID=America/Denver:20250402T210000
DTSTAMP:20260422T163644
CREATED:20250226T232638Z
LAST-MODIFIED:20250324T150336Z
UID:438-1743620400-1743627600@sococonsistory.org
SUMMARY:April 2025 Meeting
DESCRIPTION:Remembrance and Renewal Ceremony \nFlyer for RR ceremony_2025
URL:https://sococonsistory.org/event/april-2025-meeting/
LOCATION:Egyptian Room\, 1150 Panorama Dr\, Colorado Springs\, CO\, 80904\, United States
END:VEVENT
BEGIN:VEVENT
DTSTART;TZID=America/Denver:20250305T190000
DTEND;TZID=America/Denver:20250305T210000
DTSTAMP:20260422T163644
CREATED:20250226T232535Z
LAST-MODIFIED:20250226T232535Z
UID:436-1741201200-1741208400@sococonsistory.org
SUMMARY:March 2025 Meeting
DESCRIPTION:Presentation on the 29th degree and a knighting ceremony for KSA.
URL:https://sococonsistory.org/event/march-2025-meeting/
LOCATION:Egyptian Room\, 1150 Panorama Dr\, Colorado Springs\, CO\, 80904\, United States
END:VEVENT
BEGIN:VEVENT
DTSTART;TZID=America/Denver:20241204T173000
DTEND;TZID=America/Denver:20241204T203000
DTSTAMP:20260422T163644
CREATED:20240912T000913Z
LAST-MODIFIED:20241127T170303Z
UID:395-1733333400-1733344200@sococonsistory.org
SUMMARY:December 2024 meeting
DESCRIPTION:December_meeting_notice.01
URL:https://sococonsistory.org/event/december-2024-meeting/
LOCATION:Egyptian Room\, 1150 Panorama Dr\, Colorado Springs\, CO\, 80904\, United States
END:VEVENT
BEGIN:VEVENT
DTSTART;VALUE=DATE:20241107
DTEND;VALUE=DATE:20241110
DTSTAMP:20260422T163644
CREATED:20240912T000827Z
LAST-MODIFIED:20241106T181919Z
UID:393-1730937600-1731196799@sococonsistory.org
SUMMARY:Fall Reunion
DESCRIPTION:Fall Reunion is Cancelled\nDue to the serious weather and expected travel concerns in Southern Colorado the Fall Reunion for the Southern Colorado Consistory is cancelled.  Inclement weather and dangerous travel is in the forecast for the rest of this week.  This decision was carefully considered and the forecast was not promising.  Out of an abundance of concern\, leadership has made this decision to make sure our members stay safe. Please pass the word and stay safe.
URL:https://sococonsistory.org/event/fall-reunion-2/
END:VEVENT
BEGIN:VEVENT
DTSTART;TZID=America/Denver:20241106T190000
DTEND;TZID=America/Denver:20241106T200000
DTSTAMP:20260422T163644
CREATED:20240912T000757Z
LAST-MODIFIED:20241106T172745Z
UID:391-1730919600-1730923200@sococonsistory.org
SUMMARY:November 2024 Meeting
DESCRIPTION:Due to the serious weather in Colorado Springs the stated meeting for Wednesday\, 11/ 6/24 has been cancelled.  Please pass the word and stay safe and at home if you can.
URL:https://sococonsistory.org/event/november-2024-meeting/
LOCATION:Egyptian Room\, 1150 Panorama Dr\, Colorado Springs\, CO\, 80904\, United States
END:VEVENT
BEGIN:VEVENT
DTSTART;TZID=America/Denver:20241002T173000
DTEND;TZID=America/Denver:20241002T203000
DTSTAMP:20260422T163644
CREATED:20240912T000717Z
LAST-MODIFIED:20240912T000717Z
UID:389-1727890200-1727901000@sococonsistory.org
SUMMARY:October 2024 Meeting
DESCRIPTION:
URL:https://sococonsistory.org/event/october-2024-meeting/
END:VEVENT
BEGIN:VEVENT
DTSTART;TZID=America/Denver:20240904T190000
DTEND;TZID=America/Denver:20240904T203000
DTSTAMP:20260422T163644
CREATED:20240826T215248Z
LAST-MODIFIED:20240829T190640Z
UID:375-1725476400-1725481800@sococonsistory.org
SUMMARY:September Meeting
DESCRIPTION:The regular stated meeting of the Southern Colorado Consistory is on with a start time of 7:00PM on Wednesday\, September 4\, 2024. \nThe meeting is open to all Masons (EA’s and above).  A very interesting program is planned and it is our annual Hawaiian shirt night.  Aloha! \nSeptember_24_Dinner_Flyer
URL:https://sococonsistory.org/event/september-meeting/
LOCATION:Egyptian Room\, 1150 Panorama Dr\, Colorado Springs\, CO\, 80904\, United States
END:VEVENT
BEGIN:VEVENT
DTSTART;TZID=America/Denver:20240529T080000
DTEND;TZID=America/Denver:20240529T170000
DTSTAMP:20260422T163644
CREATED:20240529T203231Z
LAST-MODIFIED:20240529T203231Z
UID:371-1716969600-1717002000@sococonsistory.org
SUMMARY:June 2024 Meeting
DESCRIPTION:MW Brother Ray Dunn will present a talk on the Kabballah. All Brothers and guests are invited. \nJune_2024_Dinner_flyer\n 
URL:https://sococonsistory.org/event/june-2024-meeting/
END:VEVENT
BEGIN:VEVENT
DTSTART;TZID=America/Denver:20240425T080000
DTEND;TZID=America/Denver:20240427T193000
DTSTAMP:20260422T163644
CREATED:20240418T020045Z
LAST-MODIFIED:20240418T020045Z
UID:359-1714032000-1714246200@sococonsistory.org
SUMMARY:Spring 24 Reunion
DESCRIPTION:Reunion_menu.01\nSpringReunion_Program
URL:https://sococonsistory.org/event/spring-24-reunion/
END:VEVENT
BEGIN:VEVENT
DTSTART;TZID=America/Denver:20240403T173000
DTEND;TZID=America/Denver:20240403T203000
DTSTAMP:20260422T163644
CREATED:20240327T164356Z
LAST-MODIFIED:20240327T164729Z
UID:351-1712165400-1712176200@sococonsistory.org
SUMMARY:April 2024 Meeting
DESCRIPTION:Regular Stated meeting. It will be a open meeting with dinner. \nApril_dinner_flyer\nFlyer for RR ceremony_1
URL:https://sococonsistory.org/event/april-2024-meeting/
END:VEVENT
BEGIN:VEVENT
DTSTART;TZID=America/Denver:20240306T190000
DTEND;TZID=America/Denver:20240306T203000
DTSTAMP:20260422T163644
CREATED:20240219T172808Z
LAST-MODIFIED:20240219T173036Z
UID:337-1709751600-1709757000@sococonsistory.org
SUMMARY:March 2024 Meeting
DESCRIPTION:Regular Stated meeting. It will be a closed meeting with dinner. \nMar_dinner_flyer
URL:https://sococonsistory.org/event/march-2024-meeting/
END:VEVENT
BEGIN:VEVENT
DTSTART;TZID=America/Denver:20240103T190000
DTEND;TZID=America/Denver:20240103T203000
DTSTAMP:20260422T163644
CREATED:20231226T174759Z
LAST-MODIFIED:20231226T175232Z
UID:325-1704308400-1704313800@sococonsistory.org
SUMMARY:January Meeting
DESCRIPTION:January Dinner Mtg flyer
URL:https://sococonsistory.org/event/january-meeting/
END:VEVENT
BEGIN:VEVENT
DTSTART;TZID=America/Denver:20231206T190000
DTEND;TZID=America/Denver:20231206T203000
DTSTAMP:20260422T163644
CREATED:20231012T225806Z
LAST-MODIFIED:20231012T225806Z
UID:291-1701889200-1701894600@sococonsistory.org
SUMMARY:December Meeting Elections and Installation
DESCRIPTION:
URL:https://sococonsistory.org/event/december-meeting-elections-and-installation/
END:VEVENT
BEGIN:VEVENT
DTSTART;TZID=America/Denver:20231102T080000
DTEND;TZID=America/Denver:20231104T190000
DTSTAMP:20260422T163644
CREATED:20231012T225707Z
LAST-MODIFIED:20231030T225147Z
UID:289-1698912000-1699124400@sococonsistory.org
SUMMARY:Fall Reunion
DESCRIPTION:Fall Reunion\n  \nFall_23_Reunion_menu
URL:https://sococonsistory.org/event/fall-reunion/
END:VEVENT
BEGIN:VEVENT
DTSTART;TZID=America/Denver:20231101T190000
DTEND;TZID=America/Denver:20231101T203000
DTSTAMP:20260422T163644
CREATED:20231012T225606Z
LAST-MODIFIED:20231030T225423Z
UID:287-1698865200-1698870600@sococonsistory.org
SUMMARY:November Meeting
DESCRIPTION:Regular Stated meeting. It will be a closed meeting. \nNov_23_Hacienda_menu_flyer
URL:https://sococonsistory.org/event/november-meeting/
END:VEVENT
BEGIN:VEVENT
DTSTART;TZID=America/Denver:20230705T190000
DTEND;TZID=America/Denver:20230705T193000
DTSTAMP:20260422T163644
CREATED:20230611T045243Z
LAST-MODIFIED:20230611T045243Z
UID:10-1688583600-1688585400@sococonsistory.org
SUMMARY:July - No Meeting
DESCRIPTION:
URL:https://sococonsistory.org/event/july-no-meeting/
END:VEVENT
END:VCALENDAR